BEGIN:VCALENDAR
VERSION:2.0
PRODID:icalendar-ruby
CALSCALE:GREGORIAN
METHOD:PUBLISH
BEGIN:VEVENT
DTSTAMP:20260420T010018Z
UID:133-633704@stjamesscarsdale.org
DTSTART:20261004T143000Z
DTEND:20261004T152500Z
CLASS:PUBLIC
CREATED:20260419T184242
DESCRIPTION:LINK TO LIVESTREAM FOR JANUARY 25\nOur traditional service\, wi
 th Church School during the first half for our little ones\, the choir\, h
 ymn singing\, a sermon\, and Holy Communion\, in the Episcopal tradition. 
 Come visit!
LAST-MODIFIED:20260419T184242
LOCATION:10 Church Lane\, Scarsdale NY 10583
SUMMARY:10:30 am Sunday Service
URL;VALUE=URI:https://www.stjamesscarsdale.org/events/10-30-am-sunday-servi
 ce/2026-10-04
ATTACH;FILENAME=1A__7190.jpeg;FMTTYPE=image/jpeg:https://dq5pwpg1q8ru0.clou
 dfront.net/2025/01/09/00/45/20/ec2b3663-89aa-47cb-b60b-4fa7a5471d1e/1A__71
 90.jpeg
END:VEVENT
END:VCALENDAR
