BEGIN:VCALENDAR
VERSION:2.0
PRODID:icalendar-ruby
CALSCALE:GREGORIAN
METHOD:PUBLISH
BEGIN:VEVENT
DTSTAMP:20260423T115611Z
UID:213-641683@stjamesscarsdale.org
DTSTART:20260503T154000Z
DTEND:20260503T163000Z
CLASS:PUBLIC
CREATED:20260422T124556
DESCRIPTION:Curious about music in the Episcopal Church? Join me after serv
 ice to explore hymns\, service music\, psalms\, and more! Choir members ar
 e HIGHLY encouraged to attend and participate - I'll need your help!
LAST-MODIFIED:20260422T124556
LOCATION:Church of St. James the Less\, Isom Room
SUMMARY:Music in the Episcopal Church
URL;VALUE=URI:https://www.stjamesscarsdale.org/events/music-in-the-episcopa
 l-church/2026-05-03
ATTACH;FILENAME=Screenshot-2026-04-22-at-12.43.35-PM.png;FMTTYPE=image/png:
 https://dq5pwpg1q8ru0.cloudfront.net/2026/04/22/16/45/55/6a4ef21d-ba07-483
 e-9adb-0c1f09d69e8e/Screenshot-2026-04-22-at-12.43.35-PM.png
END:VEVENT
END:VCALENDAR
