BEGIN:VCALENDAR
VERSION:2.0
PRODID:icalendar-ruby
CALSCALE:GREGORIAN
METHOD:PUBLISH
BEGIN:VEVENT
DTSTAMP:20260422T204354Z
UID:212-641682@stjamesscarsdale.org
DTSTART:20260523T140000Z
DTEND:20260523T153000Z
CLASS:PUBLIC
CREATED:20260422T123856
DESCRIPTION:St. James parents and Mo. Storm will be hosting on Saturday May
  23 a gathering of families with younger kids (10 and under\, give or take
 ) at the St. James playground and adjacent rectory. Come grab coffee\, pas
 tries and snacks and enjoy getting to know one another and Mo. Storm. No n
 eed to RSVP--just come as you can!
LAST-MODIFIED:20260422T123856
LOCATION:St. James Playground & Rectory
SUMMARY:Young Families Gathering
URL;VALUE=URI:https://www.stjamesscarsdale.org/events/young-families-gather
 ing/2026-05-23
ATTACH;FILENAME=Yellow-and-Maroon-Chalice-First-Communion-Invitation-2.png;
 FMTTYPE=image/png:https://dq5pwpg1q8ru0.cloudfront.net/2026/04/22/16/38/56
 /5bf8be5f-9c8c-42b7-916c-7aee70685d09/Yellow-and-Maroon-Chalice-First-Comm
 union-Invitation-2.png
END:VEVENT
END:VCALENDAR
